BEGIN:VCALENDAR
VERSION:2.0
PRODID:-//Ricors Ictus - ECPv6.15.15//NONSGML v1.0//EN
CALSCALE:GREGORIAN
METHOD:PUBLISH
X-WR-CALNAME:Ricors Ictus
X-ORIGINAL-URL:https://ricors-ictus.es
X-WR-CALDESC:Eventos para Ricors Ictus
REFRESH-INTERVAL;VALUE=DURATION:PT1H
X-Robots-Tag:noindex
X-PUBLISHED-TTL:PT1H
BEGIN:VTIMEZONE
TZID:Europe/Madrid
BEGIN:DAYLIGHT
TZOFFSETFROM:+0100
TZOFFSETTO:+0200
TZNAME:CEST
DTSTART:20240331T010000
END:DAYLIGHT
BEGIN:STANDARD
TZOFFSETFROM:+0200
TZOFFSETTO:+0100
TZNAME:CET
DTSTART:20241027T010000
END:STANDARD
BEGIN:DAYLIGHT
TZOFFSETFROM:+0100
TZOFFSETTO:+0200
TZNAME:CEST
DTSTART:20250330T010000
END:DAYLIGHT
BEGIN:STANDARD
TZOFFSETFROM:+0200
TZOFFSETTO:+0100
TZNAME:CET
DTSTART:20251026T010000
END:STANDARD
BEGIN:DAYLIGHT
TZOFFSETFROM:+0100
TZOFFSETTO:+0200
TZNAME:CEST
DTSTART:20260329T010000
END:DAYLIGHT
BEGIN:STANDARD
TZOFFSETFROM:+0200
TZOFFSETTO:+0100
TZNAME:CET
DTSTART:20261025T010000
END:STANDARD
END:VTIMEZONE
BEGIN:VEVENT
DTSTART;TZID=Europe/Madrid:20250303T163000
DTEND;TZID=Europe/Madrid:20250303T173000
DTSTAMP:20260419T144254
CREATED:20250120T090323Z
LAST-MODIFIED:20250220T093611Z
UID:3621-1741019400-1741023000@ricors-ictus.es
SUMMARY:Seminario Formativo - marzo de 2025
DESCRIPTION:IBIS SEVILLA. Instituto de Biomedicina de Sevilla. Título: «Proteómica clínica aplicada al ictus: explorando nuevos biomarcadores para el diagnóstico y tratamiento». Ponente: Alejandro Fernandez. \nInstituto de Investigación Sanitaria Biocruces Bizkaia. Título: Recuperación lingüística tras un ictus: un estudio longitudinal. Ponente: Simona Mancini \nHUCA (OVIEDO). Hospital Universitario Central de Asturias. Título:»Análisis de biomarcadores para diagnóstico diferencial de ictus en exudado nasal». Ponente: Maria Teresa Fernández Abedul. \nHU DONOSTIA. Hospital Universitario de Donostia. Título: Herramienta Automatizada para la Evaluación Cognitiva en Pacientes con Ictus: Factibilidad y Potencial Clínico. Ponente: Iliana Quiñones
URL:https://ricors-ictus.es/event/seminario-formativo-marzo-de-2025/
END:VEVENT
END:VCALENDAR