BEGIN:VCALENDAR
VERSION:2.0
PRODID:-//Ricors Ictus - ECPv6.15.15//NONSGML v1.0//EN
CALSCALE:GREGORIAN
METHOD:PUBLISH
X-ORIGINAL-URL:https://ricors-ictus.es
X-WR-CALDESC:Eventos para Ricors Ictus
REFRESH-INTERVAL;VALUE=DURATION:PT1H
X-Robots-Tag:noindex
X-PUBLISHED-TTL:PT1H
BEGIN:VTIMEZONE
TZID:Europe/Madrid
BEGIN:DAYLIGHT
TZOFFSETFROM:+0100
TZOFFSETTO:+0200
TZNAME:CEST
DTSTART:20240331T010000
END:DAYLIGHT
BEGIN:STANDARD
TZOFFSETFROM:+0200
TZOFFSETTO:+0100
TZNAME:CET
DTSTART:20241027T010000
END:STANDARD
BEGIN:DAYLIGHT
TZOFFSETFROM:+0100
TZOFFSETTO:+0200
TZNAME:CEST
DTSTART:20250330T010000
END:DAYLIGHT
BEGIN:STANDARD
TZOFFSETFROM:+0200
TZOFFSETTO:+0100
TZNAME:CET
DTSTART:20251026T010000
END:STANDARD
BEGIN:DAYLIGHT
TZOFFSETFROM:+0100
TZOFFSETTO:+0200
TZNAME:CEST
DTSTART:20260329T010000
END:DAYLIGHT
BEGIN:STANDARD
TZOFFSETFROM:+0200
TZOFFSETTO:+0100
TZNAME:CET
DTSTART:20261025T010000
END:STANDARD
END:VTIMEZONE
BEGIN:VEVENT
DTSTART;TZID=Europe/Madrid:20250505T160000
DTEND;TZID=Europe/Madrid:20250505T173000
DTSTAMP:20260421T114335
CREATED:20250120T090455Z
LAST-MODIFIED:20250428T075533Z
UID:3625-1746460800-1746466200@ricors-ictus.es
SUMMARY:Seminario Formativo - mayo de 2025
DESCRIPTION:5 de mayo de 2025\, 16:00 h \nIMIM (Barcelona). Institut Hospital del Mar d´Investigacions Mèdiques. Título: «Proyecto MARIONA: Multimodal ARtificial Intelligence for Optimizing acute Neurovascular therapeutic Approach». Ponente: Isabel Fernández Pérez. \nIDIVAL (Santander). Instituto de Investigación Sanitaria Valdecilla. Título: «Identificación de biomarcadores circulantes predictores de FA en pacientes con ictus criptogénico». Ponente: Juan Marta. \nIRB Lleida. Institut de Recerca Biomèdica de Lleida. Título:  «Desarrollo y caracterización celular y conductual de un modelo murino de ictus pediátrico». Ponente: Sara Salvany
URL:https://ricors-ictus.es/event/seminario-formativo-mayo-de-2025/
END:VEVENT
END:VCALENDAR