BEGIN:VCALENDAR
VERSION:2.0
PRODID:-//Ricors Ictus - ECPv6.15.15//NONSGML v1.0//EN
CALSCALE:GREGORIAN
METHOD:PUBLISH
X-ORIGINAL-URL:https://ricors-ictus.es
X-WR-CALDESC:Eventos para Ricors Ictus
REFRESH-INTERVAL;VALUE=DURATION:PT1H
X-Robots-Tag:noindex
X-PUBLISHED-TTL:PT1H
BEGIN:VTIMEZONE
TZID:Europe/Madrid
BEGIN:DAYLIGHT
TZOFFSETFROM:+0100
TZOFFSETTO:+0200
TZNAME:CEST
DTSTART:20210328T010000
END:DAYLIGHT
BEGIN:STANDARD
TZOFFSETFROM:+0200
TZOFFSETTO:+0100
TZNAME:CET
DTSTART:20211031T010000
END:STANDARD
BEGIN:DAYLIGHT
TZOFFSETFROM:+0100
TZOFFSETTO:+0200
TZNAME:CEST
DTSTART:20220327T010000
END:DAYLIGHT
BEGIN:STANDARD
TZOFFSETFROM:+0200
TZOFFSETTO:+0100
TZNAME:CET
DTSTART:20221030T010000
END:STANDARD
BEGIN:DAYLIGHT
TZOFFSETFROM:+0100
TZOFFSETTO:+0200
TZNAME:CEST
DTSTART:20230326T010000
END:DAYLIGHT
BEGIN:STANDARD
TZOFFSETFROM:+0200
TZOFFSETTO:+0100
TZNAME:CET
DTSTART:20231029T010000
END:STANDARD
BEGIN:DAYLIGHT
TZOFFSETFROM:+0100
TZOFFSETTO:+0200
TZNAME:CEST
DTSTART:20240331T010000
END:DAYLIGHT
BEGIN:STANDARD
TZOFFSETFROM:+0200
TZOFFSETTO:+0100
TZNAME:CET
DTSTART:20241027T010000
END:STANDARD
END:VTIMEZONE
BEGIN:VEVENT
DTSTART;TZID=Europe/Madrid:20230508T160000
DTEND;TZID=Europe/Madrid:20230508T173000
DTSTAMP:20260419T150800
CREATED:20230414T082412Z
LAST-MODIFIED:20230606T101905Z
UID:2299-1683561600-1683567000@ricors-ictus.es
SUMMARY:Seminario Formativo - 8 de mayo 2023
DESCRIPTION:VHIR. Institut de Recerca Hospital Vall D´Hebron. Título: Asociación de variantes genéticas y niveles circulantes de ApoE/ApoJ con características de neuroimagen de la Angiopatía Amiloide Cerebral. Ponente: Anna Bonaterra Pastra. \nVer presentación \nIBB SANT PAU. Institut de Recerca Hospital Santa Creu i Sant Pau. Título: La microbiota intestinal y su relación con el riesgo y la discapacidad post ictus. Ponente: Miquel Lledós. \nVer presentación \nIBISBA. Institut d´Investigació Sanitària Illes Balears. Título: Identificación de genes diana de microARNs asociados a pronóstico funcional del ictus isquémico. Ponente: Aina Medina. \nVer presentación
URL:https://ricors-ictus.es/event/seminario-formativo-8-de-mayo-2023/
END:VEVENT
BEGIN:VEVENT
DTSTART;TZID=Europe/Madrid:20230323T103000
DTEND;TZID=Europe/Madrid:20230324T150000
DTSTAMP:20260419T150800
CREATED:20221215T090607Z
LAST-MODIFIED:20230414T075514Z
UID:1808-1679567400-1679670000@ricors-ictus.es
SUMMARY:II Reunión Anual - 23 y 24 de marzo
DESCRIPTION:II Reunión Anual RICORS-ICTUS \nPara más información
URL:https://ricors-ictus.es/event/ii-reunion-anual-23-y-24-de-marzo/
END:VEVENT
BEGIN:VEVENT
DTSTART;TZID=Europe/Madrid:20230109T160000
DTEND;TZID=Europe/Madrid:20230109T173000
DTSTAMP:20260419T150800
CREATED:20221027T092106Z
LAST-MODIFIED:20230109T173059Z
UID:1742-1673280000-1673285400@ricors-ictus.es
SUMMARY:Seminario Formativo - 9 de enero de 2023
DESCRIPTION:Hospital Universitario Marqués de Valdecilla. Título: Aplicación de nuevas tecnologías en el seguimiento ambulatorio post-ictus. Ponentes: Diego Encina Galnares y Enrique Jesus Palacio Portilla \nVer presentación \nHospital Universitario Miguel Servet. Título: Presentación de la Cohorte Ictus Cog: predictores y determinantes de deterioro cognitivo tras un ictus.. Ponente: Cristina Moreno Loscertales \nVer presentación \nHospital Germans Trias i Pujol. Título: New humanized model of ischemic stroke by endovascular approach in pigs. Ponente :Marc Melià Sorolla \nVer presentación
URL:https://ricors-ictus.es/event/seminario-formativo-9-de-enero-de-2023/
END:VEVENT
BEGIN:VEVENT
DTSTART;TZID=Europe/Madrid:20221219T160000
DTEND;TZID=Europe/Madrid:20221219T173000
DTSTAMP:20260419T150800
CREATED:20221219T160735Z
LAST-MODIFIED:20221219T173118Z
UID:1816-1671465600-1671471000@ricors-ictus.es
SUMMARY:Seminario Formativo - 19 de diciembre
DESCRIPTION:Hospital San Pedro de Logroño. Título: Nuevos biomarcadores pronósticos en ictus . Ponente: Francisco Julián Villaverde \nVer presentación \nHUCA. Hospital Universitario Central de Asturias. Título: Tratamiento endovascular en fase aguda en ictus por aterosclerosis intracraneal: REGISTRO NORDICTUS. Ponente: Elena López-Cancio \nVer presentación \nHospital Sant Joan Despí Moisès Broggi. Título: Rigidez arterial y enfermedad cerebral de pequeño vaso. Ponente: Jesús Manuel Gómez-Choco \n 
URL:https://ricors-ictus.es/event/seminario-formativo-19-de-diciembre/
END:VEVENT
BEGIN:VEVENT
DTSTART;TZID=Europe/Madrid:20221107T160000
DTEND;TZID=Europe/Madrid:20221107T173000
DTSTAMP:20260419T150800
CREATED:20220627T182625Z
LAST-MODIFIED:20221110T180638Z
UID:1269-1667836800-1667842200@ricors-ictus.es
SUMMARY:Seminario Formativo - 7 de noviembre de 2022
DESCRIPTION:INSTITUTO DE INVESTIGACION SANITARIA DE SANTIAGO DE COMPOSTELA (IDIS). Título: Estudio de interacción y seguridad entre rtPA y rGOT para una futura aplicación clínica. Ponente: Esteban López Arias. \nVer presentación \nHOSPITAL UNIVERSITARIO LA PRINCESA (IIS La Princesa). Título: Manejo del paciente de ictus mediante una estrategia automatizada basada en aprendizaje automático. Ponentes: Dra. Gemma Reig Roselló (Hospital Universitario de la Princesa)\, y Prof. José L. Ayala (Universidad Complutense de Madrid) \nVer presentación \n 
URL:https://ricors-ictus.es/event/seminario-formativo-7-de-noviembre-de-2022/
END:VEVENT
BEGIN:VEVENT
DTSTART;TZID=Europe/Madrid:20221003T160000
DTEND;TZID=Europe/Madrid:20221003T173000
DTSTAMP:20260419T150800
CREATED:20220627T182425Z
LAST-MODIFIED:20221003T172254Z
UID:1267-1664812800-1664818200@ricors-ictus.es
SUMMARY:Seminario Formativo - 3 de octubre de 2022
DESCRIPTION:HOSPITAL UNIVERSITARIO TORRECÁRDENAS (RD21/0006/0010). IP: Patricia Martínez Sánchez \nTítulo: Ensayo clínico: Neuromodulación de la disfunción ejecutiva en pacientes con daño cerebral adquirido mediante estimulación transcraneal de corriente directa (modul-exe): estudio traslacional. Ponente: Laura Amaya Pascasio \nVer presentación \nINSTITUTO DE INVESTIGACIÓN SANITARIA LA FE. IP: Juan B. Salom \nTítulo: Senescencia celular en el ictus isquémico. Ponente: Alicia Aliena Valero. \nVer presentación
URL:https://ricors-ictus.es/event/seminario-formativo-3-de-octubre-de-2022/
END:VEVENT
BEGIN:VEVENT
DTSTART;TZID=Europe/Madrid:20220905T160000
DTEND;TZID=Europe/Madrid:20220905T173000
DTSTAMP:20260419T150800
CREATED:20220818T084841Z
LAST-MODIFIED:20220910T173626Z
UID:1519-1662393600-1662399000@ricors-ictus.es
SUMMARY:Seminario Formativo - 5 de septiembre de 2022
DESCRIPTION:FUNDACIÓ CLINIC PER LA RECERCA BIOMÉDICA DEL  HOSPITAL CLINIC DE BARCELONA – FCRB. IP: Ángel Chamorro.\nTítulo: «Análisis mediante RM avanzada del estado de reperfusión cerebral tras fibrinólisis adyuvante a trombectomía mecánica». Ponentes: Alejandro Rodríguez/Carlos Laredo \nVer presentación \nINSTITUTO DE INVESTIGACIÓN SANITARIA BIOCRUCES BIZKAIA. IP: Mar Freijo. Título: “Efecto terapéutico de la modulación del receptor nicotínico alfa 7 tras el ictus isquémico preclínico.” Ponente: Abraham Martin del Instituto Achucarro \nCOMPLEJO HOSPITALARIO UNIVERSITARO DE ALBACETE. IP: Tomás Segura. Título: “Infección como factor de riesgo de ictus isquémico”. Ponente: Tomás Segura. \nVer presentación \n 
URL:https://ricors-ictus.es/event/seminario-formativo-5-de-septiembre-de-2022/
END:VEVENT
BEGIN:VEVENT
DTSTART;TZID=Europe/Madrid:20220704T160000
DTEND;TZID=Europe/Madrid:20220704T173000
DTSTAMP:20260419T150800
CREATED:20220624T112534Z
LAST-MODIFIED:20220707T081125Z
UID:1210-1656950400-1656955800@ricors-ictus.es
SUMMARY:Seminario Formativo – 4 de julio de 2022
DESCRIPTION:RICORS-ICTUS – Seminario Formativo – 4 de julio de 2022 \nHospital Universitario Puerta de Hierro: ULTRASONOGRAPHIC AND BIOCHEMICAL MARKERS FOR VULNERABLE ATHEROMATOUS PLAQUE. Dr. J. Carneado-Ruiz.    \nPresentación Hospital Universitario Puerta de Hierro \nInstituto de Investigación Biomédica De Salamanca. NEUROPROTECCIÓN EN ISQUEMIA: EL FACTOR DE TRANSCRIPCIÓN SP1 MODULA LA ACUMULACIÓN DE LA PROTEÍNA WRAP53 MEDIADA POR ROS\, PROMOVIENDO LA SUPERVIVENCIA NEURONAL. Sandra Martínez Peralta \nInstituto de Investigación Biomédica de Lleida: PROYECTO HIC-OMIC: IDENTIFICACIÓN DE BIOMARCADORES DE DIAGNÓSTICO\, PRONÓSTICO Y MANEJO DE LOS PACIENTES CON HEMORRAGIA INTRACEREBRAL. Daniel Vázquez Justes. \nPresentación Instituto de Investigación Biomédica de Lleida
URL:https://ricors-ictus.es/event/seminario-formativo-4-de-julio-de-2022/
END:VEVENT
BEGIN:VEVENT
DTSTART;TZID=Europe/Madrid:20220517T160000
DTEND;TZID=Europe/Madrid:20220517T173000
DTSTAMP:20260419T150800
CREATED:20220521T175452Z
LAST-MODIFIED:20220620T101454Z
UID:1002-1652803200-1652808600@ricors-ictus.es
SUMMARY:Seminario mayo 2022
DESCRIPTION:Ana Barragán Prieto (Instituto de Biomedicina de Sevilla\, Sevilla). Título: Biomarcadores de ictus: test rápido para diagnosticar OGV en ambulancia y trasladarlos al centro de trombectomía. \nPresentación IBIS \nBlanca Díaz Benito (Hospital Universitario Doce de Octubre\, i+12\, Madrid). Título: Implicación de la NETosis en el pronóstico del Ictus. \nPresentación IMAS12
URL:https://ricors-ictus.es/event/seminario-mayo-2022/
LOCATION:Hospital Universitario 12 de Octubre\, Av. de Córdoba s/n.\, Madrid\, Madrid\, 28041\, España
END:VEVENT
BEGIN:VEVENT
DTSTART;TZID=Europe/Madrid:20220419T160000
DTEND;TZID=Europe/Madrid:20220419T173000
DTSTAMP:20260419T150800
CREATED:20220514T012739Z
LAST-MODIFIED:20220620T100639Z
UID:901-1650384000-1650389400@ricors-ictus.es
SUMMARY:Seminario abril 2022
DESCRIPTION:Ponentes: \nElisa Alonso López (Hospital de la Paz\, Madrid). Título: Vesículas extracelulares y microARN como biomarcadores de daño\, reparación cerebral y recuperación en el infarto cerebral agudo. \nPresentación IDIPAZ \nLaia Carballo Perich(IDIBGI\,Girona). Título: Análisis de microRNAs circulantes como biomarcadores predictivos de placa vulnerable en pacientes con estenosis carotidea. Procesamiento para extracción en placas de ateroma. \nPresentación IDIBGI \nAndrés da Silva Candal (INIBIC\, A Coruña). Título: Laboratorio de enfermedades cerebrovasculares: Neurología Clínica y traslacional. Presentación del grupo de investigación preclínica. \nPresentación INIBIC \n91 Asistentes
URL:https://ricors-ictus.es/event/seminario-abril-2020/
LOCATION:Hospital Universitario 12 de Octubre\, Av. de Córdoba s/n.\, Madrid\, Madrid\, 28041\, España
END:VEVENT
END:VCALENDAR