BEGIN:VCALENDAR
VERSION:2.0
PRODID:-//Ricors Ictus - ECPv6.15.15//NONSGML v1.0//EN
CALSCALE:GREGORIAN
METHOD:PUBLISH
X-WR-CALNAME:Ricors Ictus
X-ORIGINAL-URL:https://ricors-ictus.es
X-WR-CALDESC:Eventos para Ricors Ictus
REFRESH-INTERVAL;VALUE=DURATION:PT1H
X-Robots-Tag:noindex
X-PUBLISHED-TTL:PT1H
BEGIN:VTIMEZONE
TZID:Europe/Madrid
BEGIN:DAYLIGHT
TZOFFSETFROM:+0100
TZOFFSETTO:+0200
TZNAME:CEST
DTSTART:20210328T010000
END:DAYLIGHT
BEGIN:STANDARD
TZOFFSETFROM:+0200
TZOFFSETTO:+0100
TZNAME:CET
DTSTART:20211031T010000
END:STANDARD
BEGIN:DAYLIGHT
TZOFFSETFROM:+0100
TZOFFSETTO:+0200
TZNAME:CEST
DTSTART:20220327T010000
END:DAYLIGHT
BEGIN:STANDARD
TZOFFSETFROM:+0200
TZOFFSETTO:+0100
TZNAME:CET
DTSTART:20221030T010000
END:STANDARD
BEGIN:DAYLIGHT
TZOFFSETFROM:+0100
TZOFFSETTO:+0200
TZNAME:CEST
DTSTART:20230326T010000
END:DAYLIGHT
BEGIN:STANDARD
TZOFFSETFROM:+0200
TZOFFSETTO:+0100
TZNAME:CET
DTSTART:20231029T010000
END:STANDARD
END:VTIMEZONE
BEGIN:VEVENT
DTSTART;TZID=Europe/Madrid:20221219T160000
DTEND;TZID=Europe/Madrid:20221219T173000
DTSTAMP:20260419T213859
CREATED:20221219T160735Z
LAST-MODIFIED:20221219T173118Z
UID:1816-1671465600-1671471000@ricors-ictus.es
SUMMARY:Seminario Formativo - 19 de diciembre
DESCRIPTION:Hospital San Pedro de Logroño. Título: Nuevos biomarcadores pronósticos en ictus . Ponente: Francisco Julián Villaverde \nVer presentación \nHUCA. Hospital Universitario Central de Asturias. Título: Tratamiento endovascular en fase aguda en ictus por aterosclerosis intracraneal: REGISTRO NORDICTUS. Ponente: Elena López-Cancio \nVer presentación \nHospital Sant Joan Despí Moisès Broggi. Título: Rigidez arterial y enfermedad cerebral de pequeño vaso. Ponente: Jesús Manuel Gómez-Choco \n 
URL:https://ricors-ictus.es/event/seminario-formativo-19-de-diciembre/
END:VEVENT
END:VCALENDAR